BEGIN:VCALENDAR
VERSION:2.0
PRODID:-//eventon.com NONSGML v1.0//EN
BEGIN:VEVENT
UID:69e9edf1778d6
DTSTAMP:20260423T120121
DTSTART:20260524T081500Z
DTEND:20260524T091500Z
TZID:Europe/Berlin
LOCATION:Erlöserkirche Scheinfeld Schlesierstraße 1\,  91443 Scheinfeld
SUMMARY:Pfingstsonntag - Gottesdienst
DESCRIPTION: \nhttps://scheinfeld-evangelisch.de/events/pfingstsonntag-gottesdienst-2/
URL:https://scheinfeld-evangelisch.de/events/pfingstsonntag-gottesdienst-2/
END:VEVENT
END:VCALENDAR