BEGIN:VCALENDAR
VERSION:2.0
PRODID:-//eventon.com NONSGML v1.0//EN
BEGIN:VEVENT
UID:69e8a54cc5ed8
DTSTAMP:20260422T123908
DTSTART:20260531T081500Z
DTEND:20260531T091500Z
TZID:Europe/Berlin
LOCATION:Erlöserkirche Scheinfeld Schlesierstraße 1\,  91443 Scheinfeld
SUMMARY:Trinitatis - Gottesdienst
DESCRIPTION: \nhttps://scheinfeld-evangelisch.de/events/trinitatis-gottesdienst-2/
URL:https://scheinfeld-evangelisch.de/events/trinitatis-gottesdienst-2/
END:VEVENT
END:VCALENDAR