BEGIN:VCALENDAR
VERSION:2.0
PRODID:-//eventon.com NONSGML v1.0//EN
BEGIN:VEVENT
UID:69e9fc8f3ce84
DTSTAMP:20260423T130343
DTSTART:20260522T121500Z
DTEND:20260522T131500Z
TZID:Europe/Berlin
LOCATION:Altenheim Scheinfeld  Schloßstraße 7\,  91443 Scheinfeld
SUMMARY:Gottesdienst im Altenheim
DESCRIPTION: \nhttps://scheinfeld-evangelisch.de/events/gottesdienst-im-altenheim-54/
URL:https://scheinfeld-evangelisch.de/events/gottesdienst-im-altenheim-54/
END:VEVENT
END:VCALENDAR