BEGIN:VCALENDAR
VERSION:2.0
PRODID:-//eventon.com NONSGML v1.0//EN
BEGIN:VEVENT
UID:69e9fd1589223
DTSTAMP:20260423T130557
DTSTART:20260508T121500Z
DTEND:20260508T131500Z
TZID:Europe/Berlin
LOCATION:Altenheim Scheinfeld  Schloßstraße 7\,  91443 Scheinfeld
SUMMARY:Gottesdienst im Altenheim
DESCRIPTION: \nhttps://scheinfeld-evangelisch.de/events/gottesdienst-im-altenheim-52/
URL:https://scheinfeld-evangelisch.de/events/gottesdienst-im-altenheim-52/
END:VEVENT
END:VCALENDAR