BEGIN:VCALENDAR
VERSION:2.0
PRODID:-//eventon.com NONSGML v1.0//EN
BEGIN:VEVENT
UID:69e9ee77ae512
DTSTAMP:20260423T120335
DTSTART:20260419T081500Z
DTEND:20260419T091500Z
TZID:Europe/Berlin
LOCATION:Erlöserkirche Scheinfeld Schlesierstraße 1\,  91443 Scheinfeld
SUMMARY:Misericordias Domini - Gottesdienst und Kindergottesdienst
DESCRIPTION: \nhttps://scheinfeld-evangelisch.de/events/misericordias-domini-gottesdienst-und-kindergottesdienst/
URL:https://scheinfeld-evangelisch.de/events/misericordias-domini-gottesdienst-und-kindergottesdienst/
END:VEVENT
END:VCALENDAR