BEGIN:VCALENDAR
VERSION:2.0
PRODID:-//eventon.com NONSGML v1.0//EN
BEGIN:VEVENT
UID:69e9efec40c03
DTSTAMP:20260423T120948
DTSTART:20260406T070000Z
DTEND:20260406T080000Z
TZID:Europe/Berlin
LOCATION:Michaelskirche Schnodsenbach 91443 Schnodsenbach
SUMMARY:Ostermontag
DESCRIPTION: \nhttps://scheinfeld-evangelisch.de/events/ostermontag/
URL:https://scheinfeld-evangelisch.de/events/ostermontag/
END:VEVENT
END:VCALENDAR