BEGIN:VCALENDAR
VERSION:2.0
PRODID:-//eventon.com NONSGML v1.0//EN
BEGIN:VEVENT
UID:69e9da8d56fe7
DTSTAMP:20260423T103837
DTSTART:20241215T211500Z
DTEND:20241215T221500Z
TZID:Pacific/Midway
LOCATION:Erlöserkirche Scheinfeld Schlesierstraße 1\,  91443 Scheinfeld
SUMMARY:Gottesdienst zum 3. Advent mit Abendmahl
DESCRIPTION: \nhttps://scheinfeld-evangelisch.de/events/gottesdienst-zum-3-advent-mit-abendmahl-2/
URL:https://scheinfeld-evangelisch.de/events/gottesdienst-zum-3-advent-mit-abendmahl-2/
END:VEVENT
END:VCALENDAR