BEGIN:VCALENDAR
VERSION:2.0
PRODID:-//eventon.com NONSGML v1.0//EN
BEGIN:VEVENT
UID:69e5eecd75315
DTSTAMP:20260420T111557
DTSTART:20241103T091500Z
DTEND:20241103T225000Z
TZID:Europe/Berlin
LOCATION:Erlöserkirche Scheinfeld Schlesierstraße 1\,  91443 Scheinfeld
SUMMARY:Gottesdienst
DESCRIPTION: Gottesdienst\nhttps://scheinfeld-evangelisch.de/events/gottesdienst-140/
URL:https://scheinfeld-evangelisch.de/events/gottesdienst-140/
END:VEVENT
END:VCALENDAR